BEGIN:VCALENDAR
VERSION:2.0
PRODID:Spatie calendar-links
BEGIN:VEVENT
UID:291bfd4686b2408f85db78c5beaf29c8
SUMMARY:FENIX art museum about migration - Rotterdam
DTSTAMP:20260430T100000Z
DTSTART:20260430T100000Z
DTEND:20280101T170000Z
END:VEVENT
END:VCALENDAR